BEGIN:VCALENDAR
VERSION:2.0
PRODID:-//ChamberMaster//Event Calendar 2.0//EN
METHOD:PUBLISH
X-PUBLISHED-TTL:P3D
REFRESH-INTERVAL:P3D
CALSCALE:GREGORIAN
BEGIN:VEVENT
DTSTART:20241023T123000Z
DTEND:20241023T140000Z
X-MICROSOFT-CDO-ALLDAYEVENT:FALSE
SUMMARY:EEDC Board Meeting
DESCRIPTION:Large Conference Room reserved fourth Wednesday of each month for Easton Economic Development Corporation's monthly board meeting.
X-ALT-DESC;FMTTYPE=text/html:Large Conference Room reserved fourth Wednesday of each month for Easton Economic Development Corporation's monthly board meeting.<br>\n&nbsp\;
LOCATION:
UID:e.3409.2820
SEQUENCE:3
DTSTAMP:20260420T210826Z
URL:https://www.talbotchamber.org/events/details/eedc-board-meeting-10-23-2024-2820
END:VEVENT

END:VCALENDAR
