BEGIN:VCALENDAR
VERSION:2.0
PRODID:-//ChamberMaster//Event Calendar 2.0//EN
METHOD:PUBLISH
X-PUBLISHED-TTL:P3D
REFRESH-INTERVAL:P3D
CALSCALE:GREGORIAN
BEGIN:VEVENT
DTSTART:20261022T120000Z
DTEND:20261022T140000Z
X-MICROSOFT-CDO-ALLDAYEVENT:FALSE
SUMMARY:Economic Symposium and Breakfast
DESCRIPTION:The Talbot Chamber invites you to the 2025 Economic Symposium and Breakfast\, presented by M&T Bank and PepUp\, a Tri Gas Family Company.\n\n\n\nJoin us for this year's Economic Symposium\, where keynote speakers Anirban Basu and Meghan Shue will provide expert analysis of key economic and market trends. Anirban Basu\, a renowned economist and founder of Sage Policy Group\, will offer insights into regional and national economic indicators\, providing a dynamic and engaging outlook for businesses. Meghan Shue\, a leading investment strategist and member of Wilmington Trust's Investment Committee\, will share valuable market perspectives\, portfolio strategies\, and the latest economic research. Don't miss this opportunity to gain critical insights to help position your business for success in today's evolving economic landscape.\n\nAbout our Guest Speakers:\n\nAnirban Basu Anirban Basu\, founder of Sage Policy Group\, is a leading economist known for his sharp insights and sense of humor. Twice named one of Maryland's 50 most influential people\, he served as Chairman of the Maryland Economic Development Commission from 2014 to 2021. He is the Chief Economist for multiple organizations nationwide and lectures as Goucher College's Economist in Residence. Dr. Basu holds degrees from Georgetown\, Harvard\, and the University of Maryland\, with expertise spanning public policy\, law\, and health economics.\n\n\n\nMeghan Shue Meghan brings deep expertise in asset allocation\, market research\, and investment strategy to the Economic Symposium. As a key member of Wilmington Trust's Investment Committee\, she helps shape the firm's strategic and tactical positioning while overseeing portfolio construction. Previously an investment strategist at Bessemer Trust\, Meghan holds an MBA in finance from the University of Miami and a bachelor's in engineering from Princeton. A recognized thought leader\, she is a regular CNBC contributor and was named to American Banker's Most Powerful Women in Banking: Next 2022 list.\n\n\n\nThis valuable event is a popular sell-out\, be sure to reserve your table or individual seats early!\n\nClick the BLUE REGISTER button -----  for sponsorship opportunities or to register.
X-ALT-DESC;FMTTYPE=text/html:<p class="xxmsonormal" style="color: rgb(51\, 51\, 51)\; font-family: sans-serif\, Arial\, Verdana\, &quot\;Trebuchet MS&quot\;\; font-size: 13px\; margin-bottom: 12pt\;"><span style="font-family:verdana\;"><span style="font-size:14px\;"><strong>The Talbot Chamber invites you to the 2025&nbsp\;Economic Symposium and Breakfast\, presented by M&amp\;T Bank and PepUp\, a Tri Gas Family Company.</strong><br />\n<br />\nJoin us for this year&rsquo\;s Economic Symposium\, where keynote speakers Anirban Basu and Meghan Shue will provide expert analysis of key economic and market trends. Anirban Basu\, a renowned economist and founder of Sage Policy Group\, will offer insights into regional and national economic indicators\, providing a dynamic and engaging outlook for businesses. Meghan Shue\, a leading investment strategist and member of Wilmington Trust&rsquo\;s Investment Committee\, will share valuable market perspectives\, portfolio strategies\, and the latest economic research. Don&rsquo\;t miss this opportunity to gain critical insights to help position your business for success in today&rsquo\;s evolving economic landscape.</span></span></p>\n\n<p class="xxmsonormal" style="color: rgb(51\, 51\, 51)\; font-family: sans-serif\, Arial\, Verdana\, &quot\;Trebuchet MS&quot\;\; font-size: 13px\;"><strong><span style="font-family:verdana\;"><span style="font-size:14px\;">About our Guest Speakers:</span></span></strong></p>\n\n<p class="xxmsonormal" style="color: rgb(51\, 51\, 51)\;"><span style="font-family:verdana\;"><span style="font-size:14px\;"><a href="https://sagepolicy.com/who-we-are/"><strong><u>Anirban Basu</u></strong></a>&nbsp\;Anirban Basu\, founder of Sage Policy Group\, is a leading economist known for his sharp insights and sense of humor. Twice named one of Maryland&rsquo\;s 50 most influential people\, he served as Chairman of the Maryland Economic Development Commission from 2014 to 2021. He is the Chief Economist for multiple organizations nationwide and lectures as Goucher College&rsquo\;s Economist in Residence. Dr. Basu holds degrees from Georgetown\, Harvard\, and the University of Maryland\, with expertise spanning public policy\, law\, and health economics.<br />\n<br />\n<a href="https://www.wilmingtontrust.com/library/author/meghan-shue"><b><u>Meghan Shue&nbsp\;</u></b></a></span></span><span style="font-family: sans-serif\, Arial\, Verdana\, &quot\;Trebuchet MS&quot\;\; font-size: 13px\;"><span style="font-size:14px\;"><span style="font-family:verdana\;">Meghan brings deep expertise in asset allocation\, market research\, and investment strategy to the Economic Symposium. As a key member of Wilmington Trust&rsquo\;s Investment Committee\, she helps shape the firm&rsquo\;s strategic and tactical positioning while overseeing portfolio construction. Previously an investment strategist at Bessemer Trust\, Meghan holds an MBA in finance from the University of Miami and a bachelor&rsquo\;s in engineering from Princeton. A recognized thought leader\, she is a regular CNBC contributor and was named to <em data-end="543" data-start="524">American Banker&rsquo\;s</em> Most Powerful Women in Banking: Next 2022 list.</span></span><br />\n<br />\n<span style="font-size:14px\;"><span style="font-family:verdana\;">This valuable event is a popular sell-out\, be sure to reserve your table or individual seats early!</span></span></span></p>\n\n<p class="xxmsonormal" style="color: rgb(51\, 51\, 51)\;"><span style="font-family: sans-serif\, Arial\, Verdana\, &quot\;Trebuchet MS&quot\;\; font-size: 13px\;"><span style="font-size:14px\;"><span style="font-family:verdana\;">Click the <span style="color:#0000CD\;">BLUE REGISTER</span> button -----&gt\; for sponsorship opportunities or to register.</span></span></span></p>\n
LOCATION:The Tidewater Inn 101 E. Dover St. Easton\, MD
UID:e.3409.8026
SEQUENCE:3
DTSTAMP:20260420T215122Z
URL:https://www.talbotchamber.org/events/details/economic-symposium-and-breakfast-8026
END:VEVENT

END:VCALENDAR
