BEGIN:VCALENDAR
VERSION:2.0
PRODID:-//ChamberMaster//Event Calendar 2.0//EN
METHOD:PUBLISH
X-PUBLISHED-TTL:P3D
REFRESH-INTERVAL:P3D
CALSCALE:GREGORIAN
BEGIN:VEVENT
DTSTART:20250328T200000Z
DTEND:20250328T210000Z
X-MICROSOFT-CDO-ALLDAYEVENT:FALSE
SUMMARY:Eat Sprout - Ribbon Cutting for New Easton Location
DESCRIPTION:Eat Sprout\, a local cafe known for its healthy and locally sourced food\, is opening a new location in downtown Easton at 22 N. Harrison Street!\n\n\n\nSprout's new location will offer all of their popular healthy menu items\, including gluten-free and vegan options for breakfast\, lunch and dinner.  Sprout Cafes are open everyday and full of artisanal breads and spreads\, chef crafted and nutritional designed entrees\, soups\, salads\, wraps and baked goods.  The new cafe will feature both indoor and outdoor seating. \n\n\n\nCome join us to celebrate Sprouts expansion!
X-ALT-DESC;FMTTYPE=text/html:<span style="font-size:18px\;">Eat Sprout\, a local cafe known for its healthy and locally sourced food\, is opening a new location in downtown Easton at 22 N. Harrison Street!<br />\n<br />\nSprout&#39\;s new location will offer all of their popular healthy menu items\, including gluten-free and vegan options for breakfast\, lunch and dinner.&nbsp\; Sprout Cafes are open everyday and full of artisanal breads and spreads\, chef crafted and nutritional designed entrees\, soups\, salads\, wraps and baked goods.&nbsp\; The new cafe will feature both indoor and outdoor seating.&nbsp\;<br />\n<br />\nCome join us to celebrate Sprouts expansion!</span><br />\n<br />\n<br />\n&nbsp\;
LOCATION:22 N. Harrison Street Easton\, MD.
UID:e.3409.7955
SEQUENCE:3
DTSTAMP:20260421T111357Z
URL:https://www.talbotchamber.org/events/details/eat-sprout-ribbon-cutting-for-new-easton-location-7955
END:VEVENT

END:VCALENDAR
