BEGIN:VCALENDAR
VERSION:2.0
PRODID:-//ChamberMaster//Event Calendar 2.0//EN
METHOD:PUBLISH
X-PUBLISHED-TTL:P3D
REFRESH-INTERVAL:P3D
CALSCALE:GREGORIAN
BEGIN:VEVENT
DTSTART:20250926T220000Z
DTEND:20250927T010000Z
X-MICROSOFT-CDO-ALLDAYEVENT:FALSE
SUMMARY:Cooking Class: Curry Up & Cook!
DESCRIPTION:Step into the vibrant world of island cuisine with Chef Joel\, also known as the "Curry King." This one-night-only class is more than just cooking\; it's an immersive experience filled with flavor\, rhythm\, and community.\n\nChef Joel will guide you through the art of creating authentic curry chicken\, sharing his culinary secrets and cultural stories along the way. Expect an energetic atmosphere where everyone is encouraged to participate\, connect\, and enjoy the process.\n\nThis isn't just a class\, it's a celebration. Come ready to cook\, laugh\, dance\, and build lasting memories while savoring the rich flavors of the islands.
X-ALT-DESC;FMTTYPE=text/html:<p>Step into the vibrant world of island cuisine with Chef Joel\, also known as the &ldquo\;Curry King.&rdquo\; This one-night-only class is more than just cooking\; it&rsquo\;s an immersive experience filled with flavor\, rhythm\, and community.</p>\n\n<p>Chef Joel will guide you through the art of creating authentic curry chicken\, sharing his culinary secrets and cultural stories along the way. Expect an energetic atmosphere where everyone is encouraged to participate\, connect\, and enjoy the process.</p>\n\n<p>This isn&rsquo\;t just a class\, it&rsquo\;s a celebration. Come ready to cook\, laugh\, dance\, and build lasting memories while savoring the rich flavors of the islands.</p>\n
LOCATION:411 Dorchester Ave Cambridge\, MD
UID:e.3409.8129
SEQUENCE:3
DTSTAMP:20260420T231733Z
URL:https://www.talbotchamber.org/events/details/cooking-class-curry-up-cook-8129
END:VEVENT

END:VCALENDAR
