BEGIN:VCALENDAR
VERSION:2.0
PRODID:-//ChamberMaster//Event Calendar 2.0//EN
METHOD:PUBLISH
X-PUBLISHED-TTL:P3D
REFRESH-INTERVAL:P3D
CALSCALE:GREGORIAN
BEGIN:VEVENT
DTSTART:20251106T130000Z
DTEND:20251106T170000Z
X-MICROSOFT-CDO-ALLDAYEVENT:FALSE
SUMMARY:Business Leadership Workshop
DESCRIPTION:Join Motivar Consulting for a Free dynamic two-day leadership workshop designed to help local business and nonprofit leaders reconnect with purpose\, sharpen leadership skills\, and build stronger\, more resilient teams. This free event blends cutting-edge insights with practical tools to support your success your way.\n\nWhat to Expect:\n\n\n	\n	Inspiring Keynote by leadership coach Rayna Schroeder (Positive Impact Leaders)\n	\n	\n	Interactive Workshops on:\n\n	\n		\n		Adaptive Leadership & Decision-Making\n		\n		\n		Team Building & Effective Communication\n		\n		\n		DISC Personality Styles\n		\n		\n		Positive Psychology in the Workplace\n		\n		\n		Narrative Strategy for Business Growth\n		\n	\n	\n	\n	Live Q&A and networking opportunities\n\n	\n\n	\n\n	This event is sponsored by a seed grant from The Talbot Economic Development and Tourism and supported by The Talbot County Chamber of Commerce.
X-ALT-DESC;FMTTYPE=text/html:<p>Join <strong>Motivar Consulting </strong>for a Free dynamic two-day leadership workshop designed to help local business and nonprofit leaders reconnect with purpose\, sharpen leadership skills\, and build stronger\, more resilient teams. This free event blends cutting-edge insights with practical tools to support your success&mdash\;your way.</p>\n\n<p><strong>What to Expect:</strong></p>\n\n<ul>\n	<li>\n	<p><strong>Inspiring Keynote</strong>&nbsp\;by leadership coach Rayna Schroeder (Positive Impact Leaders)</p>\n	</li>\n	<li>\n	<p><strong>Interactive Workshops</strong>&nbsp\;on:</p>\n\n	<ul>\n		<li>\n		<p>Adaptive Leadership &amp\; Decision-Making</p>\n		</li>\n		<li>\n		<p>Team Building &amp\; Effective Communication</p>\n		</li>\n		<li>\n		<p>DISC Personality Styles</p>\n		</li>\n		<li>\n		<p>Positive Psychology in the Workplace</p>\n		</li>\n		<li>\n		<p>Narrative Strategy for Business Growth</p>\n		</li>\n	</ul>\n	</li>\n	<li>\n	<p><strong>Live Q&amp\;A</strong>&nbsp\;and networking opportunities<br />\n	<br />\n	<br />\n	This event is sponsored by a seed grant from The Talbot Economic Development and Tourism and supported by The Talbot County Chamber of Commerce.</p>\n	</li>\n</ul>\n
LOCATION:The Talbot Chamber of Commerce\, Easton Plaza\, 101 Marlboro Ave #53\, Easton\, MD 21601
UID:e.3409.8053
SEQUENCE:3
DTSTAMP:20260420T200909Z
URL:https://www.talbotchamber.org/events/details/business-leadership-workshop-8053
END:VEVENT

END:VCALENDAR
