BEGIN:VCALENDAR
VERSION:2.0
PRODID:-//ChamberMaster//Event Calendar 2.0//EN
METHOD:PUBLISH
X-PUBLISHED-TTL:P3D
REFRESH-INTERVAL:P3D
CALSCALE:GREGORIAN
BEGIN:VEVENT
DTSTART:20250720T170000Z
DTEND:20250720T190000Z
X-MICROSOFT-CDO-ALLDAYEVENT:FALSE
SUMMARY:Brunch & Couture: An Afternoon with Marc Randall
DESCRIPTION:Experience a classy and fun fashion show featuring pieces put together by Marc Randall. The perfect activity for a Sunday afternoon. Featuring light bites from Blue Heron Catering\, brunch cocktails\, and a permanent jewelry pop-up! Purchase tickets on our website. Tickets limited to 65 and will close July 1st.
X-ALT-DESC;FMTTYPE=text/html:Experience a classy and fun fashion show featuring pieces put together by Marc Randall. The perfect activity for a Sunday afternoon. Featuring light bites from Blue Heron Catering\, brunch cocktails\, and a permanent jewelry pop-up! Purchase tickets on our website. Tickets limited to 65 and will close July 1st.&nbsp\;
LOCATION:The Market at Dover Station 500 Dover Road Easton\, MD 21601
UID:e.3409.8020
SEQUENCE:3
DTSTAMP:20260421T020920Z
URL:https://www.talbotchamber.org/events/details/brunch-couture-an-afternoon-with-marc-randall-8020
END:VEVENT

END:VCALENDAR
