BEGIN:VCALENDAR
VERSION:2.0
PRODID:-//ChamberMaster//Event Calendar 2.0//EN
METHOD:PUBLISH
X-PUBLISHED-TTL:P3D
REFRESH-INTERVAL:P3D
CALSCALE:GREGORIAN
BEGIN:VEVENT
DTSTART:20251220T140000Z
DTEND:20251220T170000Z
X-MICROSOFT-CDO-ALLDAYEVENT:FALSE
SUMMARY:Breakfast with Santa
DESCRIPTION:Join us at The Oaks in Royal Oak for a magical morning with Santa and Mrs. Claus! Enjoy a festive breakfast buffet\, story time\, photos with Santa\, and cookie-decorating kits for the whole family.\n\n\n\nSeating Details: Choose from two seating times: 9:00 10:00 AM or 10:30 11:30 AM.\n\n\n\nSeating will be assigned\, community-style (up to 10 guests per table). If you'd like to sit with another family\, please let us know at the time of booking.\n\n\n\nActivities Include: \n\n	Breakfast Buffet Meet & Greet + Photos with Santa \n	Story Time with Mr. & Mrs. Claus \n	Cookie Decorating Special Gift for Each Child \n\nReservations required.\n\nTo reserve your seats\, please call our Front Desk at 410-745-5053.\n\nA $50 deposit is required per reservation.\n\nPricing Adults & Teens (13+): $65 Kids (6 12): $25 Children 5 & Under: FREE (Tax & Gratuity Not Included)
X-ALT-DESC;FMTTYPE=text/html:<span style="font-size:16px\;">Join us at The Oaks in Royal Oak for a magical morning with Santa and Mrs. Claus! Enjoy a festive breakfast buffet\, story time\, photos with Santa\, and cookie-decorating kits for the whole family.<br />\n<br />\nSeating Details: Choose from two seating times: 9:00&ndash\;10:00 AM or 10:30&ndash\;11:30 AM.<br />\n<br />\nSeating will be assigned\, community-style (up to 10 guests per table). If you&rsquo\;d like to sit with another family\, please let us know at the time of booking.<br />\n<br />\nActivities Include: </span>\n<ul>\n	<li><span style="font-size:16px\;">Breakfast Buffet Meet &amp\; Greet + Photos with Santa </span></li>\n	<li><span style="font-size:16px\;">Story Time with Mr. &amp\; Mrs. Claus </span></li>\n	<li><span style="font-size:16px\;">Cookie Decorating Special Gift for Each Child </span></li>\n</ul>\n<span style="font-size:16px\;">Reservations required.<br />\nTo reserve your seats\, please call our Front Desk at 410-745-5053.<br />\nA $50 deposit is required per reservation.<br />\nPricing Adults &amp\; Teens (13+): $65 Kids (6&ndash\;12): $25 Children 5 &amp\; Under: FREE (Tax &amp\; Gratuity Not Included)</span>
LOCATION:The Oaks Waterfront Hotel 25876 Royal Oak Road Royal Oak\, MD
UID:e.3409.8157
SEQUENCE:3
DTSTAMP:20260420T184547Z
URL:https://www.talbotchamber.org/events/details/breakfast-with-santa-8157
END:VEVENT

END:VCALENDAR
