BEGIN:VCALENDAR
VERSION:2.0
PRODID:-//ChamberMaster//Event Calendar 2.0//EN
METHOD:PUBLISH
X-PUBLISHED-TTL:P3D
REFRESH-INTERVAL:P3D
CALSCALE:GREGORIAN
BEGIN:VEVENT
DTSTART:20250228T143000Z
DTEND:20250228T223000Z
X-MICROSOFT-CDO-ALLDAYEVENT:FALSE
SUMMARY:Annual Lifesaver Marathon: Free CPR Training
DESCRIPTION:Emergency Services Hosts Annual Lifesaver Marathon: Free CPR Training and Community Safety Event\n\n \n\nThe Talbot County Department of Emergency Services (DES) is excited to announce the return of the Lifesaver Marathon\, a free\, community-wide event dedicated to CPR training and lifesaving education. The event will take place on Friday\, February 28\, 2025\, and offer hands-on training in CPR\, Automated External Defibrillator (AED) use\, and other critical emergency response skills.\n\n"We want to stress to the community that this is a completely free event\, and knowing CPR can truly make the difference between life and death\," said Madison Loker\, Emergency Management Coordinator. "Whether at the grocery store\, the park\, or home\, these skills can save lives. We encourage everyone to attend and get involved."\n\nParticipants will have the opportunity to receive a Certificate of Completion (please note\, this is not an official CPR certification)\, tour Talbot County Emergency Service's Ambulance Bus\, and interact with various community organizations offering outreach and educational opportunities. The Ambulance Bus\, the only one on the Eastern Shore\, can transport up to 12 patients at a time and will play a vital role in mass-casualty incidents.\n\nIn addition to training\, the event will feature giveaways from local businesses. Every participant will receive a raffle ticket upon entry\, with opportunities to earn more by engaging with outreach tables and training sessions.\n\n"We're ramping things up this year with exciting new additions like the Ambulance Bus tour and community raffle\," said Rachael Cox\, event coordinator. "This event is all about empowering our community with lifesaving knowledge in a fun and engaging way."\n\nThe Lifesaver Marathon is open to all walk-ins are welcome\, but pre-registration is encouraged to help with planning.\n\nEvent Details:\n\nDate: Friday\, February 28\, 2025\n\nLocation: Talbot County Community Center\, 10028 Ocean Gateway Easton MD 21601\n\nRegister here: https://talbotcounty.jotform.com/250234368325959\n\nFor more information\, visit https://talbotcountymd.gov/lifesaver.
X-ALT-DESC;FMTTYPE=text/html:<p class="x_MsoNormal" style="margin: 0in\; font-size: 12pt\; font-family: Aptos\, sans-serif\; color: rgb(36\, 36\, 36)\;"><b><span data-olk-copy-source="MessageBody" style="border: 0px\; font-style: inherit\; font-variant: inherit\; font-weight: inherit\; font-stretch: inherit\; font-size: 16pt\; line-height: inherit\; font-family: inherit\; font-optical-sizing: inherit\; font-size-adjust: inherit\; font-kerning: inherit\; font-feature-settings: inherit\; font-variation-settings: inherit\; margin: 0px\; padding: 0px\; vertical-align: baseline\; color: inherit\;">Emergency Services Hosts Annual Lifesaver Marathon: Free CPR Training and Community Safety Event</span></b></p>\n\n<p aria-hidden="true" class="x_MsoNormal" style="margin: 0in\; font-size: 12pt\; font-family: Aptos\, sans-serif\; color: rgb(36\, 36\, 36)\;">&nbsp\;</p>\n\n<p class="x_MsoNormal" style="margin: 0in 0in 12pt\; font-size: 12pt\; font-family: Aptos\, sans-serif\; color: rgb(36\, 36\, 36)\;">The Talbot County Department of Emergency Services (DES) is excited to announce the return of the Lifesaver Marathon\, a free\, community-wide event dedicated to CPR training and lifesaving education. The event will take place on Friday\, February 28\, 2025\, and offer hands-on training in CPR\, Automated External Defibrillator (AED) use\, and other critical emergency response skills.</p>\n\n<p class="x_MsoNormal" style="margin: 0in 0in 12pt\; font-size: 12pt\; font-family: Aptos\, sans-serif\; color: rgb(36\, 36\, 36)\;">&ldquo\;We want to stress to the community that this is a completely free event\, and knowing CPR can truly make the difference between life and death\,&rdquo\; said Madison Loker\, Emergency Management Coordinator. &ldquo\;Whether at the grocery store\, the park\, or home\, these skills can save lives. We encourage everyone to attend and get involved.&rdquo\;</p>\n\n<p class="x_MsoNormal" style="margin: 0in 0in 12pt\; font-size: 12pt\; font-family: Aptos\, sans-serif\; color: rgb(36\, 36\, 36)\;">Participants will have the opportunity to receive a Certificate of Completion (please note\, this is not an official CPR certification)\, tour Talbot County Emergency Service&rsquo\;s Ambulance Bus\, and interact with various community organizations offering outreach and educational opportunities. The Ambulance Bus\, the only one on the Eastern Shore\, can transport up to 12 patients at a time and will play a vital role in mass-casualty incidents.</p>\n\n<p class="x_MsoNormal" style="margin: 0in 0in 12pt\; font-size: 12pt\; font-family: Aptos\, sans-serif\; color: rgb(36\, 36\, 36)\;">In addition to training\, the event will feature giveaways from local businesses. Every participant will receive a raffle ticket upon entry\, with opportunities to earn more by engaging with outreach tables and training sessions.</p>\n\n<p class="x_MsoNormal" style="margin: 0in 0in 12pt\; font-size: 12pt\; font-family: Aptos\, sans-serif\; color: rgb(36\, 36\, 36)\;">&ldquo\;We&rsquo\;re ramping things up this year with exciting new additions like the Ambulance Bus tour and community raffle\,&rdquo\; said Rachael Cox\, event coordinator. &ldquo\;This event is all about empowering our community with lifesaving knowledge in a fun and engaging way.&rdquo\;</p>\n\n<p class="x_MsoNormal" style="margin: 0in 0in 12pt\; font-size: 12pt\; font-family: Aptos\, sans-serif\; color: rgb(36\, 36\, 36)\;">The Lifesaver Marathon is open to all&mdash\;walk-ins are welcome\, but pre-registration is encouraged to help with planning.</p>\n\n<p class="x_MsoNormal" style="margin: 0in 0in 12pt\; font-size: 12pt\; font-family: Aptos\, sans-serif\; color: rgb(36\, 36\, 36)\;"><b><u>Event Details</u></b>:<br />\nDate: Friday\, February 28\, 2025<br />\nLocation: Talbot County Community Center\, 10028 Ocean Gateway Easton MD 21601<br />\nRegister here:&nbsp\;<a data-auth="NotApplicable" data-linkindex="1" href="https://talbotcounty.jotform.com/250234368325959" style="border: 0px\; font: inherit\; margin: 0px\; padding: 0px\; vertical-align: baseline\; color: rgb(70\, 120\, 134)\;" title="https://talbotcounty.jotform.com/250234368325959">https://talbotcounty.jotform.com/250234368325959</a></p>\n\n<p class="x_MsoNormal" style="margin: 0in 0in 12pt\; font-size: 12pt\; font-family: Aptos\, sans-serif\; color: rgb(36\, 36\, 36)\;">For more information\, visit&nbsp\;<a data-auth="NotApplicable" data-linkindex="2" href="https://talbotcountymd.gov/lifesaver" style="border: 0px\; font: inherit\; margin: 0px\; padding: 0px\; vertical-align: baseline\; color: rgb(70\, 120\, 134)\;" title="https://talbotcountymd.gov/lifesaver">https://talbotcountymd.gov/lifesaver</a>.</p>\n
LOCATION:Talbot County Community Center 10028 Ocean Gateway Easton\, MD
UID:e.3409.7764
SEQUENCE:3
DTSTAMP:20260421T122450Z
URL:https://www.talbotchamber.org/events/details/annual-lifesaver-marathon-free-cpr-training-7764
END:VEVENT

END:VCALENDAR
