BEGIN:VCALENDAR
VERSION:2.0
PRODID:-//ChamberMaster//Event Calendar 2.0//EN
METHOD:PUBLISH
X-PUBLISHED-TTL:P3D
REFRESH-INTERVAL:P3D
CALSCALE:GREGORIAN
BEGIN:VEVENT
DTSTART:20250424T203000Z
DTEND:20250424T223000Z
X-MICROSOFT-CDO-ALLDAYEVENT:FALSE
SUMMARY:After Hours Networking Mixer
DESCRIPTION:Join us at 4 Dogs Brewing Company for an after-hours networking mixer!  \n\n\n\n4 Dogs is a brewpub that believes great beers and great people make for great times. The atmosphere at our restaurant is fun and inviting with a great selection of beers and quality food at an affordable price.\n\n\n\nConnect with business leaders from Talbot County. Bring cards to hand out!
X-ALT-DESC;FMTTYPE=text/html:<span style="font-size:18px\;">Join us at 4 Dogs Brewing Company for an after-hours&nbsp\;<span style="color: rgb(51\, 51\, 51)\; font-family: sans-serif\, Arial\, Verdana\, &quot\;Trebuchet MS&quot\;\; background-color: rgb(255\, 255\, 255)\;">networking mixer!</span>&nbsp\;&nbsp\;</span><br />\n<br />\n<span style="color: rgb(54\, 54\, 54)\; font-family: Jost\, sans-serif\; font-size: 18px\; background-color: rgb(255\, 255\, 255)\;">4 Dogs is a brewpub that believes great beers and great people make for great times. The atmosphere at our restaurant is fun and inviting with a great selection of beers and quality food at an affordable price.</span><br />\n<br />\n<span style="font-size:18px\;">Connect with business leaders from Talbot County. Bring cards to hand out!</span>
LOCATION:4 Dogs Brewing Company 219 Marlboro Avenue #52B Easton\, MD
UID:e.3409.7975
SEQUENCE:3
DTSTAMP:20260421T094442Z
URL:https://www.talbotchamber.org/events/details/after-hours-networking-mixer-7975
END:VEVENT

END:VCALENDAR
