BEGIN:VCALENDAR
VERSION:2.0
PRODID:-//ChamberMaster//Event Calendar 2.0//EN
METHOD:PUBLISH
X-PUBLISHED-TTL:P3D
REFRESH-INTERVAL:P3D
CALSCALE:GREGORIAN
BEGIN:VEVENT
DTSTART:20260129T213000Z
DTEND:20260129T233000Z
X-MICROSOFT-CDO-ALLDAYEVENT:FALSE
SUMMARY:After Hours Mixer at VFW Post 5118
DESCRIPTION:Kick off the new year with connections\, conversation\, and community at our first After Hours mixer of 2026! Join fellow Chamber members and guests for a relaxed evening of networking at Easton VFW Post 5118\, a proud nonprofit organization dedicated to serving veterans and supporting the community.\n\nThe Easton VFW warmly welcomes everyone and is opening its doors to showcase its space and hospitality. Attendees can enjoy food and beverages from the VFW's Cantina menu\, along with any specials available that evening. Networking will take place in the VFW's Cantina and bar area.\n\nWhether you're stopping by for a bite\, reconnecting after the holidays\, or making new professional connections\, this is an easy\, welcoming way to start the year and support an organization committed to bringing people together and making a positive impact.\n\nNo program just good people\, good conversation\, and a great local gathering place.\n\nWe hope to see you there!
X-ALT-DESC;FMTTYPE=text/html:<p data-end="784" data-start="482"><span style="font-size:16px\;">Kick off the new year with connections\, conversation\, and community at our first After Hours mixer of 2026! Join fellow Chamber members and guests for a relaxed evening of networking at <a href="https://www.eastonvfw.com/"><strong data-end="692" data-start="668">Easton VFW Post 5118</strong>\,</a> a proud nonprofit organization dedicated to serving veterans and supporting the community.</span></p>\n\n<p data-end="1075" data-start="786"><span style="font-size:16px\;">The Easton VFW warmly welcomes everyone and is opening its doors to showcase its space and hospitality. Attendees can enjoy food and beverages from the VFW&rsquo\;s <a href="https://www.eastonvfw.com/menu"><strong data-end="960" data-start="944">Cantina menu</strong></a>\, along with any specials available that evening. <strong data-end="1075" data-start="1010">Networking will take place in the VFW&rsquo\;s Cantina and bar area.</strong></span></p>\n\n<p data-end="1333" data-start="1077"><span style="font-size:16px\;">Whether you&rsquo\;re stopping by for a bite\, reconnecting after the holidays\, or making new professional connections\, this is an easy\, welcoming way to start the year and support an organization committed to bringing people together and making a positive impact.</span></p>\n\n<p data-end="1449" data-start="1335"><span style="font-size:16px\;"><strong data-end="1421" data-start="1335">No program&mdash\;just good people\, good conversation\, and a great local gathering place.</strong><br data-end="1424" data-start="1421" />\nWe hope to see you there!</span></p>\n
LOCATION:355 Glebe Road Easton\, MD
UID:e.3409.1676
SEQUENCE:3
DTSTAMP:20260420T171953Z
URL:https://www.talbotchamber.org/events/details/after-hours-mixer-at-vfw-post-5118-1676
END:VEVENT

END:VCALENDAR
