BEGIN:VCALENDAR
VERSION:2.0
PRODID:-//ChamberMaster//Event Calendar 2.0//EN
METHOD:PUBLISH
X-PUBLISHED-TTL:P3D
REFRESH-INTERVAL:P3D
CALSCALE:GREGORIAN
BEGIN:VEVENT
DTSTART:20251120T213000Z
DTEND:20251120T233000Z
X-MICROSOFT-CDO-ALLDAYEVENT:FALSE
SUMMARY:After Hours Mixer at The Promenade at Easton
DESCRIPTION:Come Discover Life at The Promenade at Easton!\n\nJoin the Talbot County Chamber of Commerce and Talbot Young Professionals for an exclusive after-hours mixer at Easton's newest upscale apartment community   The Promenade at Easton.\n\nBe among the first to explore this brand-new property and experience the perfect blend of luxury\, modern convenience\, and community connection.\n\nEnjoy light refreshments and networking as you:\n\n\n	\n	Take a guided tour of the property and a beautifully furnished model unit\n	\n	\n	Explore exceptional resident amenities\, including:\n\n	  Premium outdoor pickleball court\n\n	  State-of-the-art fitness center\n\n	  Outdoor entertainment area with grills\n\n	  Clubhouse with resident lounge\n\n	  Pet spa and dog park\n	\n\n\nWhether you're curious about the new community\, looking to connect with other local professionals\, or just want to see what's new in Easton   this is the place to be!\n\nRSVP & we'll see you there!
X-ALT-DESC;FMTTYPE=text/html:<div style="font-size: 14px\;">\n<p data-end="466" data-start="226"><span style="font-size:16px\;"><strong data-end="276" data-start="226">Come Discover Life at The Promenade at Easton!</strong><br data-end="279" data-start="276" />\nJoin the Talbot County Chamber of Commerce and Talbot Young Professionals for an <em data-end="389" data-start="360">exclusive after-hours mixer</em> at Easton&rsquo\;s newest upscale apartment community &mdash\; <a href="https://www.promenadeeaston.com/"><strong data-end="465" data-start="438">The Promenade at Easton</strong></a>.</span></p>\n\n<p data-end="674" data-start="468"><span style="font-size:16px\;">Be among the first to explore this brand-new property and experience the perfect blend of <strong>luxury\,&nbsp\;</strong><strong data-end="673" data-start="609">modern convenience\, and community connection</strong>.</span></p>\n\n<p data-end="723" data-start="676"><span style="font-size:16px\;">Enjoy light refreshments and networking as you:</span></p>\n\n<ul data-end="1042" data-start="724">\n	<li data-end="801" data-start="724">\n	<p data-end="801" data-start="726"><span style="font-size:16px\;">Take a guided tour of the property and a beautifully furnished model unit</span></p>\n	</li>\n	<li data-end="1042" data-start="802">\n	<p data-end="1042" data-start="804"><span style="font-size:16px\;">Explore exceptional resident amenities\, including:<br data-end="857" data-start="854" />\n	&bull\; Premium outdoor pickleball court<br data-end="896" data-start="893" />\n	&bull\; State-of-the-art fitness center<br data-end="934" data-start="931" />\n	&bull\; Outdoor entertainment area with grills<br data-end="979" data-start="976" />\n	&bull\; Clubhouse with resident lounge<br data-end="1016" data-start="1013" />\n	&bull\; Pet spa and dog park</span></p>\n	</li>\n</ul>\n\n<p data-end="1210" data-start="1044"><span style="font-size:16px\;">Whether you&rsquo\;re curious about the new community\, looking to connect with other local professionals\, or just want to see what&rsquo\;s new in Easton &mdash\; this is the place to be!</span></p>\n\n<p data-end="1247" data-start="1212"><span style="font-size:16px\;"><strong data-end="1247" data-start="1212">RSVP &amp\; we&#39\;ll see you there!</strong></span></p>\n</div>\n
LOCATION:8337 Elliott Road Easton\, MD
UID:e.3409.8149
SEQUENCE:3
DTSTAMP:20260420T201345Z
URL:https://www.talbotchamber.org/events/details/after-hours-mixer-at-the-promenade-at-easton-8149
END:VEVENT

END:VCALENDAR
