BEGIN:VCALENDAR
VERSION:2.0
PRODID:-//ChamberMaster//Event Calendar 2.0//EN
METHOD:PUBLISH
X-PUBLISHED-TTL:P3D
REFRESH-INTERVAL:P3D
CALSCALE:GREGORIAN
BEGIN:VEVENT
DTSTART:20250723T203000Z
DTEND:20250723T223000Z
X-MICROSOFT-CDO-ALLDAYEVENT:FALSE
SUMMARY:After Hours Mixer at the Oaks Waterfront Inn
DESCRIPTION:SPECIAL WEDNESDAY NIGHT AFTER HOURS MIXER IN JULY!\nJoin us for a relaxing Happy Hour on the Dock at the Oaks Waterfront Inn. Beat the heat with the gentle breeze of the ceiling fans while enjoying expertly crafted cocktails or delicious nibbles. Take in the stunning waterfront views in a beautiful setting perfect for unwinding and connecting. We look forward to seeing you there!
X-ALT-DESC;FMTTYPE=text/html:<span style="font-size:18px\;"><strong>SPECIAL WEDNESDAY NIGHT AFTER HOURS MIXER IN JULY!</strong></span>\n<p data-end="348" data-start="73"><span style="font-size:18px\;">Join us for a relaxing Happy Hour on the Dock at the&nbsp\;</span><a href="https://the-oaks.com/" style="font-size: 18px\;">Oaks Waterfront Inn</a><span style="font-size:18px\;">. Beat the heat with the gentle breeze of the ceiling fans while enjoying expertly crafted cocktails or delicious nibbles. Take in the stunning waterfront views in a beautiful setting perfect for unwinding and connecting. We look forward to seeing you there!</span></p>\n
LOCATION:25876 Royal Oak Road Royal Oak\, MD
UID:e.3409.7978
SEQUENCE:3
DTSTAMP:20260421T020917Z
URL:https://www.talbotchamber.org/events/details/after-hours-mixer-at-the-oaks-waterfront-inn-7978
END:VEVENT

END:VCALENDAR
