BEGIN:VCALENDAR
VERSION:2.0
PRODID:-//ChamberMaster//Event Calendar 2.0//EN
METHOD:PUBLISH
X-PUBLISHED-TTL:P3D
REFRESH-INTERVAL:P3D
CALSCALE:GREGORIAN
BEGIN:VEVENT
DTSTART;VALUE=DATE:20250704
DTEND;VALUE=DATE:20250705
TRANSP:TRANSPARENT
X-MICROSOFT-CDO-ALLDAYEVENT:TRUE
SUMMARY:4th of July: Chamber offices closed
DESCRIPTION:The Chamber offices will be closed for the 4th of July.\n\nWe will reopen at regular time\, Monday\, July 7th.
X-ALT-DESC;FMTTYPE=text/html:The Chamber offices will be closed for the 4th of July.<br />\nWe will reopen at regular time\, Monday\, July 7th.
LOCATION:
UID:e.3409.8016
SEQUENCE:3
DTSTAMP:20260421T020902Z
URL:https://www.talbotchamber.org/events/details/4th-of-july-chamber-offices-closed-8016
END:VEVENT

END:VCALENDAR
