BEGIN:VCALENDAR
VERSION:2.0
PRODID:-//ChamberMaster//Event Calendar 2.0//EN
METHOD:PUBLISH
X-PUBLISHED-TTL:P3D
REFRESH-INTERVAL:P3D
CALSCALE:GREGORIAN
BEGIN:VEVENT
DTSTART:20250913T170000Z
DTEND:20250913T200000Z
X-MICROSOFT-CDO-ALLDAYEVENT:FALSE
SUMMARY:3RD ANNUAL LANDJAM - ESLC
DESCRIPTION:Join Eastern Shore Land Conservancy in celebrating our 35th anniversary at our third annual LandJam! This year\, our family-friendly afternoon of live music and local eats will be held at the wonderful Councell Farms during their opening weekend! Come enjoy live music from the 599s and Coastal Plain\, great food from Taqueria Floritas\, yard games\, and the many fall attractions at Councell Farms (a corn maze\, jumping pillow\, combine slide\, pumpkins\, and more) plus opportunities to learn more about ESLC's 35 years of conserving\, stewarding\, and advocating for the unique rural landscape of the Eastern Shore of Maryland. We can't wait to see you there! https://www.eslc.org/event/landjam/
X-ALT-DESC;FMTTYPE=text/html:<span style="font-size:18px\;"><span style="font-family:calibri\,sans-serif\;">Join Eastern Shore Land Conservancy in celebrating our 35<sup>th</sup> anniversary at our third annual LandJam! This year\, our family-friendly afternoon of live music and local eats will be held at the wonderful Councell Farms during their opening weekend! Come enjoy live music from the 599s and Coastal Plain\, great food from Taqueria Floritas\, yard games\, and the many fall attractions at Councell Farms (a corn maze\, jumping pillow\, combine slide\, pumpkins\, and more) plus opportunities to learn more about ESLC&rsquo\;s 35 years of conserving\, stewarding\, and advocating for the unique rural landscape of the Eastern Shore of Maryland. </span><span style="background:white\;"><span style="font-family:segoe ui\,sans-serif\;">We can&rsquo\;t wait to see you there! <a href="https://www.eslc.org/event/landjam/">https://www.eslc.org/event/landjam/</a></span><span style="color:#4472C4\;"><span style="font-family:segoe ui\,sans-serif\;"> </span></span></span></span><br />\n<br />\n&nbsp\;
LOCATION:Councell Farms 11773 Old Skipton Road Cordova\, MD
UID:e.3409.8101
SEQUENCE:3
DTSTAMP:20260420T231815Z
URL:https://www.talbotchamber.org/events/details/3rd-annual-landjam-eslc-8101
END:VEVENT

END:VCALENDAR
