BEGIN:VCALENDAR
VERSION:2.0
PRODID:-//ChamberMaster//Event Calendar 2.0//EN
METHOD:PUBLISH
X-PUBLISHED-TTL:P3D
REFRESH-INTERVAL:P3D
CALSCALE:GREGORIAN
BEGIN:VEVENT
DTSTART:20260619T140000Z
DTEND:20260621T190000Z
X-MICROSOFT-CDO-ALLDAYEVENT:FALSE
SUMMARY:38th Annual Antique & Classic Boat Festival and Coastal Arts Fair
DESCRIPTION:Theme: "Boats Built in Michigan & the Midwest'' Featuring Chris-Craft\, Lyman\, Century\, Larson\, Gar Wood\, Matthews and many more classic and antique vessels. Other attractions: Boating History Talks CLICK HERE on Friday and Saturday\, free boat rides on Saturday and Sunday\, and maritime vendors\, juried artists\, nautical flea market\, children's activities\, Field of Dreams (boats for sale)\, food vendors\, and more throughout the weekend.
X-ALT-DESC;FMTTYPE=text/html:Theme: &ldquo\;Boats Built in Michigan &amp\; the Midwest&rsquo\;&rsquo\; Featuring Chris-Craft\, Lyman\, Century\, Larson\, Gar Wood\, Matthews and many more classic and antique vessels. Other attractions: Boating History Talks CLICK HERE on Friday and Saturday\, free boat rides on Saturday and Sunday\, and maritime vendors\, juried artists\, nautical flea market\, children&rsquo\;s activities\, Field of Dreams (boats for sale)\, food vendors\, and more throughout the weekend.
LOCATION:Chesapeake Bay Maritime Museum\, 213 N. Talbot St.\, St. Michaels\, Md.
UID:e.3409.8336
SEQUENCE:3
DTSTAMP:20260420T151957Z
URL:https://www.talbotchamber.org/events/details/38th-annual-antique-classic-boat-festival-and-coastal-arts-fair-8336
END:VEVENT

END:VCALENDAR
