BEGIN:VCALENDAR
VERSION:2.0
PRODID:-//ChamberMaster//Event Calendar 2.0//EN
METHOD:PUBLISH
X-PUBLISHED-TTL:P3D
REFRESH-INTERVAL:P3D
CALSCALE:GREGORIAN
BEGIN:VEVENT
DTSTART;VALUE=DATE:20250613
DTEND;VALUE=DATE:20250616
TRANSP:TRANSPARENT
X-MICROSOFT-CDO-ALLDAYEVENT:TRUE
SUMMARY:37th Annual Antique & Classic Boat Festival and Coastal Arts Fair
DESCRIPTION:Featuring the theme\, "Boats Made Popular through TV and Film\,'' members of the Antique & Classic Boat Society-Chesapeake Bay Chapter expect to feature Chris Craft (On Golden Pond)\, Thunderbird (Flipper)\, Glastron (Batman and Robin)\, Hacker (Indiana Jones and the Last Crusade)\, and many more. Other attractions include boating history talks\, maritime vendors\, juried artists\, nautical flea market\, free boat rides\, children's activities\, Field of Dreams (boats for sale)\, food vendors\, and more.
X-ALT-DESC;FMTTYPE=text/html:Featuring the theme\, &ldquo\;Boats Made Popular through TV and Film\,&rsquo\;&rsquo\; members of the Antique &amp\; Classic Boat Society-Chesapeake Bay Chapter expect to feature Chris Craft (On Golden Pond)\, Thunderbird (Flipper)\, Glastron (Batman and Robin)\, Hacker (Indiana Jones and the Last Crusade)\, and many more. Other attractions include boating history talks\, maritime vendors\, juried artists\, nautical flea market\, free boat rides\, children&rsquo\;s activities\, Field of Dreams (boats for sale)\, food vendors\, and more.
LOCATION:Chesapeake Bay Maritime Museum\, 213 N. Talbot St.\, St. Michaels\, Md.
UID:e.3409.7977
SEQUENCE:3
DTSTAMP:20260421T053619Z
URL:https://www.talbotchamber.org/events/details/37th-annual-antique-classic-boat-festival-and-coastal-arts-fair-7977
END:VEVENT

END:VCALENDAR
