BEGIN:VCALENDAR
VERSION:2.0
PRODID:-//ChamberMaster//Event Calendar 2.0//EN
METHOD:PUBLISH
X-PUBLISHED-TTL:P3D
REFRESH-INTERVAL:P3D
CALSCALE:GREGORIAN
BEGIN:VEVENT
DTSTART:20250621T140000Z
DTEND:20250621T180000Z
X-MICROSOFT-CDO-ALLDAYEVENT:FALSE
SUMMARY:2025 Community Block Party at The Village
DESCRIPTION:Our 2nd Annual Community Block Party is shaping up to be a day full of fun\, local spirit\, and community connection. Join us to meet The Village providers\, explore family resources\, connect with other Eastern Shore families\, and enjoy a day packed with activities for all ages.\n\n\n\nSaturday\, June 21\, 2025 10:00 AM   2:00 PM\n\nThe Village Maternal Holistic Wellness Center 29520 Canvasback Drive\, Easton\, MD\n\nRain date: Saturday\, June 28\n\n\n\nBring the kids\, bring your friends\, or just come solo and soak in the fun!\n\n\n\nWe'll have great food activities for the whole family:\n\n	bounce house\n	face painting\n	balloon animals\n	petting zoo\n	pony rides\n	Local makers + small businesses\n	Wellness resources for parents + families\n	Raffle giveaways and more!\n\nIt's totally free to attend and open to everyone\, so help us spread the word and celebrate the amazing families in our community.
X-ALT-DESC;FMTTYPE=text/html:Our 2nd Annual Community Block Party is shaping up to be a day full of fun\, local spirit\, and community connection. Join us to meet The Village providers\, explore family resources\, connect with other Eastern Shore families\, and enjoy a day packed with activities for all ages.<br />\n<br />\n<strong>Saturday\, June 21\, 2025 10:00 AM &ndash\; 2:00 PM<br />\nThe Village Maternal Holistic Wellness Center 29520 Canvasback Drive\, Easton\, MD<br />\nRain date: Saturday\, June 28</strong><br />\n<br />\nBring the kids\, bring your friends\, or just come solo and soak in the fun!<br />\n<br />\nWe&rsquo\;ll have great food activities for the whole family:\n<ul>\n	<li>bounce house</li>\n	<li>face painting</li>\n	<li>balloon animals</li>\n	<li>petting zoo</li>\n	<li>pony rides</li>\n	<li>Local makers + small businesses</li>\n	<li>Wellness resources for parents + families</li>\n	<li>Raffle giveaways and more!</li>\n</ul>\nIt&rsquo\;s totally free to attend and open to everyone\, so help us spread the word and celebrate the amazing families in our community.
LOCATION:The Village Maternal Holistic Wellness Center 29520 Canvasback Drive\, Easton\, MD
UID:e.3409.7979
SEQUENCE:3
DTSTAMP:20260421T053413Z
URL:https://www.talbotchamber.org/events/details/2025-community-block-party-at-the-village-7979
END:VEVENT

END:VCALENDAR
